BEGIN:VCALENDAR
VERSION:2.0
PRODID:icalendar-ruby
CALSCALE:GREGORIAN
BEGIN:VEVENT
DTSTAMP:20260425T105306Z
UID:b06c5082-feed-44a2-97ed-03845f056bf6
DTSTART;VALUE=DATE:20260325
DESCRIPTION:Property ID# 604710\, Locatoin: Clark & Co Realty\, 7 Mana Espl
 anade Paremata.\, Time: 1:00AM
SUMMARY:Auction for 4/63 Main Road
END:VEVENT
END:VCALENDAR
