BEGIN:VCALENDAR
VERSION:2.0
PRODID:icalendar-ruby
CALSCALE:GREGORIAN
BEGIN:VEVENT
DTSTAMP:20260423T093509Z
UID:ff6d562c-4b8a-4cb4-ab06-3f96e95a4cec
DTSTART;VALUE=DATE:20260211
DESCRIPTION:Property ID# 602144\, Locatoin: Clark & Co Realty\, 7 Mana Espl
 anade Paremata.\, Time: 1:00PM
SUMMARY:Auction for 
END:VEVENT
END:VCALENDAR
