BEGIN:VCALENDAR
VERSION:2.0
PRODID:icalendar-ruby
CALSCALE:GREGORIAN
BEGIN:VEVENT
DTSTAMP:20260420T221231Z
UID:a0bff0c5-8cb7-4169-baca-7e403adff296
DTSTART;VALUE=DATE:20240209
DESCRIPTION:Property ID# 568403\, Locatoin: Ray White\, Wellington\, Time: 
 11:00AM
SUMMARY:Auction for 
END:VEVENT
END:VCALENDAR
