BEGIN:VCALENDAR
VERSION:2.0
PRODID:icalendar-ruby
CALSCALE:GREGORIAN
BEGIN:VEVENT
DTSTAMP:20260424T094431Z
UID:792c6d18-2b74-406b-af18-afbe41bb8394
DTSTART;VALUE=DATE:20231122
DESCRIPTION:Property ID# 565170\, Locatoin: Level 1\, 77 Thorndon Quay\, We
 llington\, Time: 12:00PM
SUMMARY:Auction for 
END:VEVENT
END:VCALENDAR
