BEGIN:VCALENDAR
VERSION:2.0
PRODID:icalendar-ruby
CALSCALE:GREGORIAN
BEGIN:VEVENT
DTSTAMP:20260422T212412Z
UID:89173f21-3509-4e7a-a4af-135151a4e4da
DTSTART;VALUE=DATE:20211015
DESCRIPTION:Property ID# 518501\, Locatoin: 8 Kent Terrace\, Wellington\, T
 ime: 12:00PM
SUMMARY:Auction for 
END:VEVENT
END:VCALENDAR
