BEGIN:VCALENDAR
VERSION:2.0
PRODID:icalendar-ruby
CALSCALE:GREGORIAN
BEGIN:VEVENT
DTSTAMP:20260422T144912Z
UID:22faab97-8548-4166-9538-57965458fbc8
DTSTART;VALUE=DATE:20210921
DESCRIPTION:Property ID# 516677\, Time: 1:00PM
SUMMARY:Auction for 
END:VEVENT
END:VCALENDAR
