BEGIN:VCALENDAR
VERSION:2.0
PRODID:icalendar-ruby
CALSCALE:GREGORIAN
BEGIN:VEVENT
DTSTAMP:20260420T200543Z
UID:e9dcd4db-2437-4267-972b-05fac5287a76
DTSTART;VALUE=DATE:20201126
DESCRIPTION:Property ID# 494717\, Locatoin: Tommys Mana 99 Mana Esplanade P
 aremata \, Time: 1:00PM
SUMMARY:Auction for 
END:VEVENT
END:VCALENDAR
